BEGIN:VCALENDAR
VERSION:2.0
PRODID:icalendar-ruby
CALSCALE:GREGORIAN
METHOD:PUBLISH
BEGIN:VEVENT
DTSTAMP:20260420T134926Z
UID:10-538155@fbcmanchester.org
DTSTART:20260809T153000Z
DTEND:20260809T161500Z
CLASS:PUBLIC
CREATED:20260420T081038
DESCRIPTION:
LAST-MODIFIED:20260420T081038
LOCATION:
SUMMARY:Adult Sunday School 
URL;VALUE=URI:https://www.fbcmanchester.org/events/adult-sunday-school/2026
 -08-09
END:VEVENT
END:VCALENDAR
