BEGIN:VCALENDAR
VERSION:2.0
PRODID:icalendar-ruby
CALSCALE:GREGORIAN
METHOD:PUBLISH
BEGIN:VEVENT
DTSTAMP:20260420T155044Z
UID:10-538691@fbcmanchester.org
DTSTART:20260816T153000Z
DTEND:20260816T161500Z
CLASS:PUBLIC
CREATED:20260420T104519
DESCRIPTION:
LAST-MODIFIED:20260420T104519
LOCATION:
SUMMARY:Adult Sunday School 
URL;VALUE=URI:https://www.fbcmanchester.org/events/adult-sunday-school/2026
 -08-16
END:VEVENT
END:VCALENDAR
