BEGIN:VCALENDAR
VERSION:2.0
PRODID:icalendar-ruby
CALSCALE:GREGORIAN
METHOD:PUBLISH
BEGIN:VEVENT
DTSTAMP:20260420T174139Z
UID:10-539227@fbcmanchester.org
DTSTART:20260823T153000Z
DTEND:20260823T161500Z
CLASS:PUBLIC
CREATED:20260420T131927
DESCRIPTION:
LAST-MODIFIED:20260420T131927
LOCATION:
SUMMARY:Adult Sunday School 
URL;VALUE=URI:https://www.fbcmanchester.org/events/adult-sunday-school/2026
 -08-23
END:VEVENT
END:VCALENDAR
