BEGIN:VCALENDAR
VERSION:2.0
PRODID:icalendar-ruby
CALSCALE:GREGORIAN
METHOD:PUBLISH
BEGIN:VEVENT
DTSTAMP:20260421T050331Z
UID:10-540836@fbcmanchester.org
DTSTART:20260920T153000Z
DTEND:20260920T161500Z
CLASS:PUBLIC
CREATED:20260420T210459
DESCRIPTION:
LAST-MODIFIED:20260420T210459
LOCATION:
SUMMARY:Adult Sunday School 
URL;VALUE=URI:https://www.fbcmanchester.org/events/adult-sunday-school/2026
 -09-20
END:VEVENT
END:VCALENDAR
