BEGIN:VCALENDAR
VERSION:2.0
PRODID:icalendar-ruby
CALSCALE:GREGORIAN
METHOD:PUBLISH
BEGIN:VEVENT
DTSTAMP:20260421T064655Z
UID:10-540837@fbcmanchester.org
DTSTART:20260927T153000Z
DTEND:20260927T161500Z
CLASS:PUBLIC
CREATED:20260420T210459
DESCRIPTION:
LAST-MODIFIED:20260420T210459
LOCATION:
SUMMARY:Adult Sunday School 
URL;VALUE=URI:https://www.fbcmanchester.org/events/adult-sunday-school/2026
 -09-27
END:VEVENT
END:VCALENDAR
