BEGIN:VCALENDAR
VERSION:2.0
PRODID:icalendar-ruby
CALSCALE:GREGORIAN
METHOD:PUBLISH
BEGIN:VEVENT
DTSTAMP:20260423T115246Z
UID:10-547263@fbcmanchester.org
DTSTART:20261018T153000Z
DTEND:20261018T161500Z
CLASS:PUBLIC
CREATED:20260422T225804
DESCRIPTION:
LAST-MODIFIED:20260422T225804
LOCATION:
SUMMARY:Adult Sunday School 
URL;VALUE=URI:https://www.fbcmanchester.org/events/adult-sunday-school/2026
 -10-18
END:VEVENT
END:VCALENDAR
