BEGIN:VCALENDAR
VERSION:2.0
PRODID:icalendar-ruby
CALSCALE:GREGORIAN
METHOD:PUBLISH
BEGIN:VEVENT
DTSTAMP:20260423T132406Z
UID:10-547801@fbcmanchester.org
DTSTART:20261025T153000Z
DTEND:20261025T161500Z
CLASS:PUBLIC
CREATED:20260423T082820
DESCRIPTION:
LAST-MODIFIED:20260423T082820
LOCATION:
SUMMARY:Adult Sunday School 
URL;VALUE=URI:https://www.fbcmanchester.org/events/adult-sunday-school/2026
 -10-25
END:VEVENT
END:VCALENDAR
