BEGIN:VCALENDAR
VERSION:2.0
PRODID:icalendar-ruby
CALSCALE:GREGORIAN
METHOD:PUBLISH
BEGIN:VEVENT
DTSTAMP:20260423T151552Z
UID:10-547802@fbcmanchester.org
DTSTART:20261101T163000Z
DTEND:20261101T171500Z
CLASS:PUBLIC
CREATED:20260423T082820
DESCRIPTION:
LAST-MODIFIED:20260423T082820
LOCATION:
SUMMARY:Adult Sunday School 
URL;VALUE=URI:https://www.fbcmanchester.org/events/adult-sunday-school/2026
 -11-01
END:VEVENT
END:VCALENDAR
