BEGIN:VCALENDAR
VERSION:2.0
PRODID:icalendar-ruby
CALSCALE:GREGORIAN
METHOD:PUBLISH
BEGIN:VEVENT
DTSTAMP:20260420T102304Z
UID:12-537699@fbcmanchester.org
DTSTART:20260808T130000Z
DTEND:20260808T140000Z
CLASS:PUBLIC
CREATED:20260420T032938
DESCRIPTION:
LAST-MODIFIED:20260420T032938
LOCATION:Library 
SUMMARY:Bible Study 
URL;VALUE=URI:https://www.fbcmanchester.org/events/bible-study/2026-08-08
END:VEVENT
END:VCALENDAR
