BEGIN:VCALENDAR
VERSION:2.0
PRODID:icalendar-ruby
CALSCALE:GREGORIAN
METHOD:PUBLISH
BEGIN:VEVENT
DTSTAMP:20260422T170507Z
UID:12-545194@fbcmanchester.org
DTSTART:20260912T130000Z
DTEND:20260912T140000Z
CLASS:PUBLIC
CREATED:20260422T112213
DESCRIPTION:
LAST-MODIFIED:20260422T112213
LOCATION:Library 
SUMMARY:Bible Study 
URL;VALUE=URI:https://www.fbcmanchester.org/events/bible-study/2026-09-12
END:VEVENT
END:VCALENDAR
