BEGIN:VCALENDAR
VERSION:2.0
PRODID:icalendar-ruby
CALSCALE:GREGORIAN
METHOD:PUBLISH
BEGIN:VEVENT
DTSTAMP:20260422T185302Z
UID:12-545730@fbcmanchester.org
DTSTART:20260919T130000Z
DTEND:20260919T140000Z
CLASS:PUBLIC
CREATED:20260422T141702
DESCRIPTION:
LAST-MODIFIED:20260422T141702
LOCATION:Library 
SUMMARY:Bible Study 
URL;VALUE=URI:https://www.fbcmanchester.org/events/bible-study/2026-09-19
END:VEVENT
END:VCALENDAR
