BEGIN:VCALENDAR
VERSION:2.0
PRODID:icalendar-ruby
CALSCALE:GREGORIAN
METHOD:PUBLISH
BEGIN:VEVENT
DTSTAMP:20260422T222015Z
UID:12-546267@fbcmanchester.org
DTSTART:20261003T130000Z
DTEND:20261003T140000Z
CLASS:PUBLIC
CREATED:20260422T171215
DESCRIPTION:
LAST-MODIFIED:20260422T171215
LOCATION:Library 
SUMMARY:Bible Study 
URL;VALUE=URI:https://www.fbcmanchester.org/events/bible-study/2026-10-03
END:VEVENT
END:VCALENDAR
