BEGIN:VCALENDAR
VERSION:2.0
PRODID:icalendar-ruby
CALSCALE:GREGORIAN
METHOD:PUBLISH
BEGIN:VEVENT
DTSTAMP:20260423T000723Z
UID:12-546804@fbcmanchester.org
DTSTART:20261010T130000Z
DTEND:20261010T140000Z
CLASS:PUBLIC
CREATED:20260422T200359
DESCRIPTION:
LAST-MODIFIED:20260422T200359
LOCATION:Library 
SUMMARY:Bible Study 
URL;VALUE=URI:https://www.fbcmanchester.org/events/bible-study/2026-10-10
END:VEVENT
END:VCALENDAR
