BEGIN:VCALENDAR
VERSION:2.0
PRODID:icalendar-ruby
CALSCALE:GREGORIAN
METHOD:PUBLISH
BEGIN:VEVENT
DTSTAMP:20260423T054307Z
UID:12-547344@fbcmanchester.org
DTSTART:20261031T130000Z
DTEND:20261031T140000Z
CLASS:PUBLIC
CREATED:20260422T225804
DESCRIPTION:
LAST-MODIFIED:20260422T225804
LOCATION:Library 
SUMMARY:Bible Study 
URL;VALUE=URI:https://www.fbcmanchester.org/events/bible-study/2026-10-31
END:VEVENT
END:VCALENDAR
